BEGIN:VCALENDAR
VERSION:2.0
PRODID:-//Mens Health Educational Rural Van - ECPv6.14.2//NONSGML v1.0//EN
CALSCALE:GREGORIAN
METHOD:PUBLISH
X-ORIGINAL-URL:https://mherv.com.au
X-WR-CALDESC:Events for Mens Health Educational Rural Van
REFRESH-INTERVAL;VALUE=DURATION:PT1H
X-Robots-Tag:noindex
X-PUBLISHED-TTL:PT1H
BEGIN:VTIMEZONE
TZID:Australia/Sydney
BEGIN:STANDARD
TZOFFSETFROM:+1100
TZOFFSETTO:+1000
TZNAME:AEST
DTSTART:20250405T160000
END:STANDARD
BEGIN:DAYLIGHT
TZOFFSETFROM:+1000
TZOFFSETTO:+1100
TZNAME:AEDT
DTSTART:20251004T160000
END:DAYLIGHT
BEGIN:STANDARD
TZOFFSETFROM:+1100
TZOFFSETTO:+1000
TZNAME:AEST
DTSTART:20260404T160000
END:STANDARD
BEGIN:DAYLIGHT
TZOFFSETFROM:+1000
TZOFFSETTO:+1100
TZNAME:AEDT
DTSTART:20261003T160000
END:DAYLIGHT
END:VTIMEZONE
BEGIN:VEVENT
DTSTART;TZID=Australia/Sydney:20260226T093000
DTEND;TZID=Australia/Sydney:20260226T161500
DTSTAMP:20260421T204230
CREATED:20260204T000919Z
LAST-MODIFIED:20260204T000919Z
UID:13596-1772098200-1772122500@mherv.com.au
SUMMARY:Free Men's Health Check in Pambula
DESCRIPTION:MERIMBULA BOAT RAMP – Arthur Kaine Dr – Carpark
URL:https://mherv.com.au/where-is-mherv-1/free-mens-health-check-in-pambula-3/
ATTACH;FMTTYPE=image/png:https://mherv.com.au/wp-content/uploads/2022/02/mherv-pin-trimmed@3x.png
END:VEVENT
BEGIN:VEVENT
DTSTART;TZID=Australia/Sydney:20260224T093000
DTEND;TZID=Australia/Sydney:20260224T161500
DTSTAMP:20260421T204230
CREATED:20260204T000904Z
LAST-MODIFIED:20260204T000904Z
UID:13595-1771925400-1771949700@mherv.com.au
SUMMARY:Free Men's Health Check in Moruya
DESCRIPTION:MORUYA MOWERS & PUMPS – 17-19 Church Street\, Moruya
URL:https://mherv.com.au/where-is-mherv-1/free-mens-health-check-in-moruya-8/
ATTACH;FMTTYPE=image/png:https://mherv.com.au/wp-content/uploads/2022/02/mherv-pin-trimmed@3x.png
END:VEVENT
BEGIN:VEVENT
DTSTART;TZID=Australia/Sydney:20260223T093000
DTEND;TZID=Australia/Sydney:20260223T161500
DTSTAMP:20260421T204230
CREATED:20260204T000856Z
LAST-MODIFIED:20260204T000856Z
UID:13594-1771839000-1771863300@mherv.com.au
SUMMARY:Free Men's Health Check in Moruya
DESCRIPTION:MORUYA MOWERS & PUMPS – 17-19 Church Street\, Moruya
URL:https://mherv.com.au/where-is-mherv-1/free-mens-health-check-in-moruya-7/
ATTACH;FMTTYPE=image/png:https://mherv.com.au/wp-content/uploads/2022/02/mherv-pin-trimmed@3x.png
END:VEVENT
BEGIN:VEVENT
DTSTART;TZID=Australia/Sydney:20260221T093000
DTEND;TZID=Australia/Sydney:20260221T161500
DTSTAMP:20260421T204230
CREATED:20260204T000848Z
LAST-MODIFIED:20260204T000848Z
UID:13593-1771666200-1771690500@mherv.com.au
SUMMARY:Free Men's Health Check in Batemans Bay
DESCRIPTION:BUNNINGS – 34/32 Princes Hwy\, Batemans Bay
URL:https://mherv.com.au/where-is-mherv-1/free-mens-health-check-in-batemans-bay-8/
ATTACH;FMTTYPE=image/png:https://mherv.com.au/wp-content/uploads/2022/02/mherv-pin-trimmed@3x.png
END:VEVENT
BEGIN:VEVENT
DTSTART;TZID=Australia/Sydney:20260220T093000
DTEND;TZID=Australia/Sydney:20260220T161500
DTSTAMP:20260421T204230
CREATED:20260204T000834Z
LAST-MODIFIED:20260204T000834Z
UID:13592-1771579800-1771604100@mherv.com.au
SUMMARY:Free Men's Health Check in Batemans Bay
DESCRIPTION:BUNNINGS – 34/32 Princes Hwy\, Batemans Bay
URL:https://mherv.com.au/where-is-mherv-1/free-mens-health-check-in-batemans-bay-7/
ATTACH;FMTTYPE=image/png:https://mherv.com.au/wp-content/uploads/2022/02/mherv-pin-trimmed@3x.png
END:VEVENT
BEGIN:VEVENT
DTSTART;TZID=Australia/Sydney:20260219T093000
DTEND;TZID=Australia/Sydney:20260219T161500
DTSTAMP:20260421T204230
CREATED:20260204T000817Z
LAST-MODIFIED:20260204T000817Z
UID:13591-1771493400-1771517700@mherv.com.au
SUMMARY:Free Men's Health Check in Ulladulla
DESCRIPTION:131 St Vincent Street\, Ulladulla
URL:https://mherv.com.au/where-is-mherv-1/free-mens-health-check-in-ulladulla-6/
ATTACH;FMTTYPE=image/png:https://mherv.com.au/wp-content/uploads/2022/02/mherv-pin-trimmed@3x.png
END:VEVENT
BEGIN:VEVENT
DTSTART;TZID=Australia/Sydney:20260218T093000
DTEND;TZID=Australia/Sydney:20260218T161500
DTSTAMP:20260421T204230
CREATED:20260204T000800Z
LAST-MODIFIED:20260204T000800Z
UID:13590-1771407000-1771431300@mherv.com.au
SUMMARY:Free Men's Health Check in Ulladulla
DESCRIPTION:131 St Vincent Street\, Ulladulla
URL:https://mherv.com.au/where-is-mherv-1/free-mens-health-check-in-ulladulla-5/
ATTACH;FMTTYPE=image/png:https://mherv.com.au/wp-content/uploads/2022/02/mherv-pin-trimmed@3x.png
END:VEVENT
BEGIN:VEVENT
DTSTART;TZID=Australia/Sydney:20260217T093000
DTEND;TZID=Australia/Sydney:20260217T161500
DTSTAMP:20260421T204230
CREATED:20260204T000752Z
LAST-MODIFIED:20260204T000752Z
UID:13589-1771320600-1771344900@mherv.com.au
SUMMARY:Free Men's Health Check in Nowra
DESCRIPTION:HOME CO – 190 Princes Hwy\, Nowra
URL:https://mherv.com.au/where-is-mherv-1/free-mens-health-check-in-nowra-8/
ATTACH;FMTTYPE=image/png:https://mherv.com.au/wp-content/uploads/2022/02/mherv-pin-trimmed@3x.png
END:VEVENT
BEGIN:VEVENT
DTSTART;TZID=Australia/Sydney:20260216T093000
DTEND;TZID=Australia/Sydney:20260216T161500
DTSTAMP:20260421T204230
CREATED:20260204T000746Z
LAST-MODIFIED:20260204T000746Z
UID:13588-1771234200-1771258500@mherv.com.au
SUMMARY:Free Men's Health Check in Nowra
DESCRIPTION:HOME CO – 190 Princes Hwy\, Nowra
URL:https://mherv.com.au/where-is-mherv-1/free-mens-health-check-in-nowra-7/
ATTACH;FMTTYPE=image/png:https://mherv.com.au/wp-content/uploads/2022/02/mherv-pin-trimmed@3x.png
END:VEVENT
BEGIN:VEVENT
DTSTART;TZID=Australia/Sydney:20260214T093000
DTEND;TZID=Australia/Sydney:20260214T161500
DTSTAMP:20260421T204230
CREATED:20260204T000734Z
LAST-MODIFIED:20260204T000734Z
UID:13587-1771061400-1771085700@mherv.com.au
SUMMARY:Free Men's Health Check in Berry
DESCRIPTION:REAR CAR PARK – Off Queens St\, Berry
URL:https://mherv.com.au/where-is-mherv-1/free-mens-health-check-in-berry-3/
ATTACH;FMTTYPE=image/png:https://mherv.com.au/wp-content/uploads/2022/02/mherv-pin-trimmed@3x.png
END:VEVENT
BEGIN:VEVENT
DTSTART;TZID=Australia/Sydney:20260213T093000
DTEND;TZID=Australia/Sydney:20260213T161500
DTSTAMP:20260421T204230
CREATED:20260204T000702Z
LAST-MODIFIED:20260204T000702Z
UID:13586-1770975000-1770999300@mherv.com.au
SUMMARY:Free Men's Health Check in Kiama
DESCRIPTION:KIAMA – Cnr Shoalhaven & Terralong St
URL:https://mherv.com.au/where-is-mherv-1/free-mens-health-check-in-kiama-9/
ATTACH;FMTTYPE=image/png:https://mherv.com.au/wp-content/uploads/2022/02/mherv-pin-trimmed@3x.png
END:VEVENT
BEGIN:VEVENT
DTSTART;TZID=Australia/Sydney:20260212T093000
DTEND;TZID=Australia/Sydney:20260212T161500
DTSTAMP:20260421T204230
CREATED:20260204T000655Z
LAST-MODIFIED:20260204T000655Z
UID:13585-1770888600-1770912900@mherv.com.au
SUMMARY:Free Men's Health Check in Kiama
DESCRIPTION:KIAMA – Cnr Shoalhaven & Terralong St
URL:https://mherv.com.au/where-is-mherv-1/free-mens-health-check-in-kiama-8/
ATTACH;FMTTYPE=image/png:https://mherv.com.au/wp-content/uploads/2022/02/mherv-pin-trimmed@3x.png
END:VEVENT
BEGIN:VEVENT
DTSTART;TZID=Australia/Sydney:20260211T093000
DTEND;TZID=Australia/Sydney:20260211T161500
DTSTAMP:20260421T204230
CREATED:20260204T000642Z
LAST-MODIFIED:20260204T000642Z
UID:13584-1770802200-1770826500@mherv.com.au
SUMMARY:Free Men's Health Check in Dapto
DESCRIPTION:DAPTO SQUARE – 55 Princes Hwy\, Dapto
URL:https://mherv.com.au/where-is-mherv-1/free-mens-health-check-in-dapto-6/
ATTACH;FMTTYPE=image/png:https://mherv.com.au/wp-content/uploads/2022/02/mherv-pin-trimmed@3x.png
END:VEVENT
BEGIN:VEVENT
DTSTART;TZID=Australia/Sydney:20260210T093000
DTEND;TZID=Australia/Sydney:20260210T161500
DTSTAMP:20260421T204230
CREATED:20260204T000628Z
LAST-MODIFIED:20260204T000628Z
UID:13583-1770715800-1770740100@mherv.com.au
SUMMARY:Free Men's Health Check in Dapto
DESCRIPTION:DAPTO SQUARE – 55 Princes Hwy\, Dapto
URL:https://mherv.com.au/where-is-mherv-1/free-mens-health-check-in-dapto-5/
ATTACH;FMTTYPE=image/png:https://mherv.com.au/wp-content/uploads/2022/02/mherv-pin-trimmed@3x.png
END:VEVENT
BEGIN:VEVENT
DTSTART;TZID=Australia/Sydney:20260209T093000
DTEND;TZID=Australia/Sydney:20260209T161500
DTSTAMP:20260421T204230
CREATED:20260204T000602Z
LAST-MODIFIED:20260204T000602Z
UID:13582-1770629400-1770653700@mherv.com.au
SUMMARY:Free Men's Health Check in Corrimal
DESCRIPTION:BUNNINGS BELLAMBI – Cnr Bellambi & Watts Lanes\, Corrimal
URL:https://mherv.com.au/where-is-mherv-1/free-mens-health-check-in-corrimal-6/
ATTACH;FMTTYPE=image/png:https://mherv.com.au/wp-content/uploads/2022/02/mherv-pin-trimmed@3x.png
END:VEVENT
BEGIN:VEVENT
DTSTART;TZID=Australia/Sydney:20260207T093000
DTEND;TZID=Australia/Sydney:20260207T161500
DTSTAMP:20260421T204230
CREATED:20260204T000551Z
LAST-MODIFIED:20260204T000551Z
UID:13581-1770456600-1770480900@mherv.com.au
SUMMARY:Free Men's Health Check in Corrimal
DESCRIPTION:BUNNINGS BELLAMBI – Cnr Bellambi & Watts Lanes\, Corrimal
URL:https://mherv.com.au/where-is-mherv-1/free-mens-health-check-in-corrimal-5/
ATTACH;FMTTYPE=image/png:https://mherv.com.au/wp-content/uploads/2022/02/mherv-pin-trimmed@3x.png
END:VEVENT
BEGIN:VEVENT
DTSTART;TZID=Australia/Sydney:20260206T093000
DTEND;TZID=Australia/Sydney:20260206T161500
DTSTAMP:20260421T204230
CREATED:20260204T000548Z
LAST-MODIFIED:20260204T000548Z
UID:13580-1770370200-1770394500@mherv.com.au
SUMMARY:Free Men's Health Check in Campbelltown
DESCRIPTION:COOGLAN LANE CAR PARK\, Campbelltown
URL:https://mherv.com.au/where-is-mherv-1/free-mens-health-check-in-campbelltown-6/
ATTACH;FMTTYPE=image/png:https://mherv.com.au/wp-content/uploads/2022/02/mherv-pin-trimmed@3x.png
END:VEVENT
BEGIN:VEVENT
DTSTART;TZID=Australia/Sydney:20260205T093000
DTEND;TZID=Australia/Sydney:20260205T161500
DTSTAMP:20260421T204230
CREATED:20260204T000544Z
LAST-MODIFIED:20260204T000544Z
UID:13579-1770283800-1770308100@mherv.com.au
SUMMARY:Free Men's Health Check in Campbelltown
DESCRIPTION:COOGLAN LANE CAR PARK\, Campbelltown
URL:https://mherv.com.au/where-is-mherv-1/free-mens-health-check-in-campbelltown-5/
ATTACH;FMTTYPE=image/png:https://mherv.com.au/wp-content/uploads/2022/02/mherv-pin-trimmed@3x.png
END:VEVENT
BEGIN:VEVENT
DTSTART;TZID=Australia/Sydney:20260203T093000
DTEND;TZID=Australia/Sydney:20260203T161500
DTSTAMP:20260421T204230
CREATED:20260204T000540Z
LAST-MODIFIED:20260204T000540Z
UID:13578-1770111000-1770135300@mherv.com.au
SUMMARY:Free Men's Health Check in The Entrance
DESCRIPTION:THE ENTRANCE – Cnr Battley & Oakdale Ave
URL:https://mherv.com.au/where-is-mherv-1/free-mens-health-check-in-the-entrance-4/
ATTACH;FMTTYPE=image/png:https://mherv.com.au/wp-content/uploads/2022/02/mherv-pin-trimmed@3x.png
END:VEVENT
BEGIN:VEVENT
DTSTART;TZID=Australia/Sydney:20260202T093000
DTEND;TZID=Australia/Sydney:20260202T161500
DTSTAMP:20260421T204230
CREATED:20260204T000530Z
LAST-MODIFIED:20260204T000530Z
UID:13577-1770024600-1770048900@mherv.com.au
SUMMARY:Free Men's Health Check in The Entrance
DESCRIPTION:THE ENTRANCE – Cnr Battley & Oakdale Ave
URL:https://mherv.com.au/where-is-mherv-1/free-mens-health-check-in-the-entrance-3/
ATTACH;FMTTYPE=image/png:https://mherv.com.au/wp-content/uploads/2022/02/mherv-pin-trimmed@3x.png
END:VEVENT
BEGIN:VEVENT
DTSTART;TZID=Australia/Sydney:20251204T093000
DTEND;TZID=Australia/Sydney:20251204T161500
DTSTAMP:20260421T204230
CREATED:20251006T025023Z
LAST-MODIFIED:20251030T014120Z
UID:13426-1764840600-1764864900@mherv.com.au
SUMMARY:Free Men's Health Check in Warners Bay
DESCRIPTION:Bunnings Bennetts Green (Pacific Hwy)
URL:https://mherv.com.au/where-is-mherv-1/free-mens-health-check-in-warners-bay-2/
ATTACH;FMTTYPE=image/png:https://mherv.com.au/wp-content/uploads/2022/02/mherv-pin-trimmed@3x.png
END:VEVENT
BEGIN:VEVENT
DTSTART;TZID=Australia/Sydney:20251203T093000
DTEND;TZID=Australia/Sydney:20251203T161500
DTSTAMP:20260421T204230
CREATED:20251006T025018Z
LAST-MODIFIED:20251030T014132Z
UID:13425-1764754200-1764778500@mherv.com.au
SUMMARY:Free Men's Health Check in Warners Bay
DESCRIPTION:Bunnings Bennetts Green
URL:https://mherv.com.au/where-is-mherv-1/free-mens-health-check-in-warners-bay/
ATTACH;FMTTYPE=image/png:https://mherv.com.au/wp-content/uploads/2022/02/mherv-pin-trimmed@3x.png
END:VEVENT
BEGIN:VEVENT
DTSTART;TZID=Australia/Sydney:20251202T100000
DTEND;TZID=Australia/Sydney:20251202T161500
DTSTAMP:20260421T204230
CREATED:20251006T025014Z
LAST-MODIFIED:20251030T014136Z
UID:13424-1764669600-1764692100@mherv.com.au
SUMMARY:Free Men's Health Check in Wallsend
DESCRIPTION:Outside Domino’s Pizza (Wallsend Village)
URL:https://mherv.com.au/where-is-mherv-1/free-mens-health-check-in-wallsend-6/
ATTACH;FMTTYPE=image/png:https://mherv.com.au/wp-content/uploads/2022/02/mherv-pin-trimmed@3x.png
END:VEVENT
BEGIN:VEVENT
DTSTART;TZID=Australia/Sydney:20251201T093000
DTEND;TZID=Australia/Sydney:20251201T161500
DTSTAMP:20260421T204230
CREATED:20251006T025002Z
LAST-MODIFIED:20251030T014140Z
UID:13423-1764581400-1764605700@mherv.com.au
SUMMARY:Free Men's Health Check in Wallsend
DESCRIPTION:Wallsend Shopping Village
URL:https://mherv.com.au/where-is-mherv-1/free-mens-health-check-in-wallsend-5/
ATTACH;FMTTYPE=image/png:https://mherv.com.au/wp-content/uploads/2022/02/mherv-pin-trimmed@3x.png
END:VEVENT
BEGIN:VEVENT
DTSTART;TZID=Australia/Sydney:20251129T093000
DTEND;TZID=Australia/Sydney:20251129T161500
DTSTAMP:20260421T204230
CREATED:20251006T010446Z
LAST-MODIFIED:20251030T014143Z
UID:13415-1764408600-1764432900@mherv.com.au
SUMMARY:Free Men's Health Check in Nelson Bay
DESCRIPTION:Cnr Port Stephens Dr & Taylors Beach Rd\, Taylors Beach
URL:https://mherv.com.au/where-is-mherv-1/free-mens-health-check-in-nelson-bay-4/
ATTACH;FMTTYPE=image/png:https://mherv.com.au/wp-content/uploads/2022/02/mherv-pin-trimmed@3x.png
END:VEVENT
BEGIN:VEVENT
DTSTART;TZID=Australia/Sydney:20251128T093000
DTEND;TZID=Australia/Sydney:20251128T161500
DTSTAMP:20260421T204230
CREATED:20251006T010437Z
LAST-MODIFIED:20251030T014146Z
UID:13414-1764322200-1764346500@mherv.com.au
SUMMARY:Free Men's Health Check in Nelson Bay
DESCRIPTION:Bunnings\, Nelson Bay
URL:https://mherv.com.au/where-is-mherv-1/free-mens-health-check-in-nelson-bay-3/
ATTACH;FMTTYPE=image/png:https://mherv.com.au/wp-content/uploads/2022/02/mherv-pin-trimmed@3x.png
END:VEVENT
BEGIN:VEVENT
DTSTART;TZID=Australia/Sydney:20251127T093000
DTEND;TZID=Australia/Sydney:20251127T161500
DTSTAMP:20260421T204230
CREATED:20251006T010429Z
LAST-MODIFIED:20251030T014151Z
UID:13413-1764235800-1764260100@mherv.com.au
SUMMARY:Free Men's Health Check in Medowie
DESCRIPTION:Noah’s Ark Veterinary Services (grass verge)\, Shop 137 Ferodale Rd\, Medowie
URL:https://mherv.com.au/where-is-mherv-1/free-mens-health-check-in-medowie/
ATTACH;FMTTYPE=image/png:https://mherv.com.au/wp-content/uploads/2022/02/mherv-pin-trimmed@3x.png
END:VEVENT
BEGIN:VEVENT
DTSTART;TZID=Australia/Sydney:20251126T093000
DTEND;TZID=Australia/Sydney:20251126T161500
DTSTAMP:20260421T204230
CREATED:20251006T010415Z
LAST-MODIFIED:20251030T014155Z
UID:13412-1764149400-1764173700@mherv.com.au
SUMMARY:Free Men's Health Check in Raymond Terrace
DESCRIPTION:In front of Wahroonga Corporation\, Sturgeon St (next to PCYC)\, Raymond Terrace
URL:https://mherv.com.au/where-is-mherv-1/free-mens-health-check-in-raymond-terrace-4/
ATTACH;FMTTYPE=image/png:https://mherv.com.au/wp-content/uploads/2022/02/mherv-pin-trimmed@3x.png
END:VEVENT
BEGIN:VEVENT
DTSTART;TZID=Australia/Sydney:20251125T100000
DTEND;TZID=Australia/Sydney:20251125T161500
DTSTAMP:20260421T204230
CREATED:20251030T013805Z
LAST-MODIFIED:20251030T013805Z
UID:13511-1764064800-1764087300@mherv.com.au
SUMMARY:Free Men's Health Check in Clarence Town
DESCRIPTION:Near IGA Clarencetown\, Prince Street (at the corner of Grey St)
URL:https://mherv.com.au/where-is-mherv-1/free-mens-health-check-in-clarence-town/
ATTACH;FMTTYPE=image/png:https://mherv.com.au/wp-content/uploads/2022/02/mherv-pin-trimmed@3x.png
END:VEVENT
BEGIN:VEVENT
DTSTART;TZID=Australia/Sydney:20251125T100000
DTEND;TZID=Australia/Sydney:20251125T161500
DTSTAMP:20260421T204230
CREATED:20251006T010345Z
LAST-MODIFIED:20251030T014159Z
UID:13411-1764064800-1764087300@mherv.com.au
SUMMARY:Free Men's Health Check in Clarencetown
DESCRIPTION:Exact van location to be confirmed
URL:https://mherv.com.au/where-is-mherv-1/free-mens-health-check-in-clarencetown/
ATTACH;FMTTYPE=image/png:https://mherv.com.au/wp-content/uploads/2022/02/mherv-pin-trimmed@3x.png
END:VEVENT
END:VCALENDAR