BEGIN:VCALENDAR
VERSION:2.0
PRODID:-//Mens Health Educational Rural Van - ECPv6.14.2//NONSGML v1.0//EN
CALSCALE:GREGORIAN
METHOD:PUBLISH
X-WR-CALNAME:Mens Health Educational Rural Van
X-ORIGINAL-URL:https://mherv.com.au
X-WR-CALDESC:Events for Mens Health Educational Rural Van
REFRESH-INTERVAL;VALUE=DURATION:PT1H
X-Robots-Tag:noindex
X-PUBLISHED-TTL:PT1H
BEGIN:VTIMEZONE
TZID:Australia/Sydney
BEGIN:STANDARD
TZOFFSETFROM:+1100
TZOFFSETTO:+1000
TZNAME:AEST
DTSTART:20250405T160000
END:STANDARD
BEGIN:DAYLIGHT
TZOFFSETFROM:+1000
TZOFFSETTO:+1100
TZNAME:AEDT
DTSTART:20251004T160000
END:DAYLIGHT
END:VTIMEZONE
BEGIN:VEVENT
DTSTART;TZID=Australia/Sydney:20251107T093000
DTEND;TZID=Australia/Sydney:20251107T161500
DTSTAMP:20260421T234804
CREATED:20251006T010051Z
LAST-MODIFIED:20251030T014242Z
UID:13400-1762507800-1762532100@mherv.com.au
SUMMARY:Free Men's Health Check in Wingham
DESCRIPTION:Front of CWA Rooms\, Isabella St\, Wingham
URL:https://mherv.com.au/where-is-mherv-1/free-mens-health-check-in-wingham-5/
ATTACH;FMTTYPE=image/png:https://mherv.com.au/wp-content/uploads/2022/02/mherv-pin-trimmed@3x.png
END:VEVENT
BEGIN:VEVENT
DTSTART;TZID=Australia/Sydney:20251027T093000
DTEND;TZID=Australia/Sydney:20251027T161500
DTSTAMP:20260421T234804
CREATED:20250922T223113Z
LAST-MODIFIED:20250922T223113Z
UID:13370-1761557400-1761581700@mherv.com.au
SUMMARY:Free Men's Health Check in Macksville
DESCRIPTION:Macksville
URL:https://mherv.com.au/where-is-mherv-1/free-mens-health-check-in-macksville-5/
ATTACH;FMTTYPE=image/png:https://mherv.com.au/wp-content/uploads/2022/02/mherv-pin-trimmed@3x.png
END:VEVENT
BEGIN:VEVENT
DTSTART;TZID=Australia/Sydney:20251026T093000
DTEND;TZID=Australia/Sydney:20251026T161500
DTSTAMP:20260421T234804
CREATED:20250922T223104Z
LAST-MODIFIED:20250922T223104Z
UID:13369-1761471000-1761495300@mherv.com.au
SUMMARY:Free Men's Health Check in Macksville
DESCRIPTION:Private Forecourt
URL:https://mherv.com.au/where-is-mherv-1/free-mens-health-check-in-macksville-4/
ATTACH;FMTTYPE=image/png:https://mherv.com.au/wp-content/uploads/2022/02/mherv-pin-trimmed@3x.png
END:VEVENT
BEGIN:VEVENT
DTSTART;TZID=Australia/Sydney:20251025T093000
DTEND;TZID=Australia/Sydney:20251025T161500
DTSTAMP:20260421T234804
CREATED:20250922T223047Z
LAST-MODIFIED:20250922T223047Z
UID:13368-1761384600-1761408900@mherv.com.au
SUMMARY:Free Men's Health Check in Macksville
DESCRIPTION:Private Forecourt
URL:https://mherv.com.au/where-is-mherv-1/free-mens-health-check-in-macksville-3/
ATTACH;FMTTYPE=image/png:https://mherv.com.au/wp-content/uploads/2022/02/mherv-pin-trimmed@3x.png
END:VEVENT
BEGIN:VEVENT
DTSTART;TZID=Australia/Sydney:20251024T093000
DTEND;TZID=Australia/Sydney:20251024T161500
DTSTAMP:20260421T234804
CREATED:20250922T222921Z
LAST-MODIFIED:20250922T222921Z
UID:13367-1761298200-1761322500@mherv.com.au
SUMMARY:Free Men's Health Check in Nambucca Heads
DESCRIPTION:Nambucca Valley Plaza
URL:https://mherv.com.au/where-is-mherv-1/free-mens-health-check-in-nambucca-heads-7/
ATTACH;FMTTYPE=image/png:https://mherv.com.au/wp-content/uploads/2022/02/mherv-pin-trimmed@3x.png
END:VEVENT
BEGIN:VEVENT
DTSTART;TZID=Australia/Sydney:20251023T093000
DTEND;TZID=Australia/Sydney:20251023T161500
DTSTAMP:20260421T234805
CREATED:20250922T222914Z
LAST-MODIFIED:20250922T222914Z
UID:13366-1761211800-1761236100@mherv.com.au
SUMMARY:Free Men's Health Check in Nambucca Heads
DESCRIPTION:Nambucca Valley Plaza
URL:https://mherv.com.au/where-is-mherv-1/free-mens-health-check-in-nambucca-heads-6/
ATTACH;FMTTYPE=image/png:https://mherv.com.au/wp-content/uploads/2022/02/mherv-pin-trimmed@3x.png
END:VEVENT
BEGIN:VEVENT
DTSTART;TZID=Australia/Sydney:20251022T093000
DTEND;TZID=Australia/Sydney:20251022T161500
DTSTAMP:20260421T234805
CREATED:20250922T222906Z
LAST-MODIFIED:20250922T222906Z
UID:13365-1761125400-1761149700@mherv.com.au
SUMMARY:Free Men's Health Check in Bellingen
DESCRIPTION:Hyde Street
URL:https://mherv.com.au/where-is-mherv-1/free-mens-health-check-in-bellingen-5/
ATTACH;FMTTYPE=image/png:https://mherv.com.au/wp-content/uploads/2022/02/mherv-pin-trimmed@3x.png
END:VEVENT
BEGIN:VEVENT
DTSTART;TZID=Australia/Sydney:20251021T093000
DTEND;TZID=Australia/Sydney:20251021T161500
DTSTAMP:20260421T234805
CREATED:20250922T222858Z
LAST-MODIFIED:20250922T222858Z
UID:13364-1761039000-1761063300@mherv.com.au
SUMMARY:Free Men's Health Check in Bellingen
DESCRIPTION:Hyde Street
URL:https://mherv.com.au/where-is-mherv-1/free-mens-health-check-in-bellingen-4/
ATTACH;FMTTYPE=image/png:https://mherv.com.au/wp-content/uploads/2022/02/mherv-pin-trimmed@3x.png
END:VEVENT
BEGIN:VEVENT
DTSTART;TZID=Australia/Sydney:20251020T093000
DTEND;TZID=Australia/Sydney:20251020T161500
DTSTAMP:20260421T234805
CREATED:20250922T222845Z
LAST-MODIFIED:20250922T222845Z
UID:13363-1760952600-1760976900@mherv.com.au
SUMMARY:Free Men's Health Check in Urunga
DESCRIPTION:Mogo Street
URL:https://mherv.com.au/where-is-mherv-1/free-mens-health-check-in-urunga-3/
ATTACH;FMTTYPE=image/png:https://mherv.com.au/wp-content/uploads/2022/02/mherv-pin-trimmed@3x.png
END:VEVENT
BEGIN:VEVENT
DTSTART;TZID=Australia/Sydney:20251018T093000
DTEND;TZID=Australia/Sydney:20251018T161500
DTSTAMP:20260421T234805
CREATED:20250922T222735Z
LAST-MODIFIED:20250922T222735Z
UID:13362-1760779800-1760804100@mherv.com.au
SUMMARY:Free Men's Health Check in Coffs Harbour
DESCRIPTION:Bunnings
URL:https://mherv.com.au/where-is-mherv-1/free-mens-health-check-in-coffs-harbour-6/
ATTACH;FMTTYPE=image/png:https://mherv.com.au/wp-content/uploads/2022/02/mherv-pin-trimmed@3x.png
END:VEVENT
BEGIN:VEVENT
DTSTART;TZID=Australia/Sydney:20251017T093000
DTEND;TZID=Australia/Sydney:20251017T161500
DTSTAMP:20260421T234805
CREATED:20250922T222727Z
LAST-MODIFIED:20250922T222727Z
UID:13361-1760693400-1760717700@mherv.com.au
SUMMARY:Free Men's Health Check in Coffs Harbour
DESCRIPTION:Bunnings
URL:https://mherv.com.au/where-is-mherv-1/free-mens-health-check-in-coffs-harbour-5/
ATTACH;FMTTYPE=image/png:https://mherv.com.au/wp-content/uploads/2022/02/mherv-pin-trimmed@3x.png
END:VEVENT
BEGIN:VEVENT
DTSTART;TZID=Australia/Sydney:20251016T093000
DTEND;TZID=Australia/Sydney:20251016T161500
DTSTAMP:20260421T234805
CREATED:20250922T222719Z
LAST-MODIFIED:20250922T222719Z
UID:13360-1760607000-1760631300@mherv.com.au
SUMMARY:Free Men's Health Check in Sawtell
DESCRIPTION:Outside RSL
URL:https://mherv.com.au/where-is-mherv-1/free-mens-health-check-in-sawtell-6/
ATTACH;FMTTYPE=image/png:https://mherv.com.au/wp-content/uploads/2022/02/mherv-pin-trimmed@3x.png
END:VEVENT
BEGIN:VEVENT
DTSTART;TZID=Australia/Sydney:20251015T093000
DTEND;TZID=Australia/Sydney:20251015T161500
DTSTAMP:20260421T234805
CREATED:20250922T222707Z
LAST-MODIFIED:20250922T222707Z
UID:13359-1760520600-1760544900@mherv.com.au
SUMMARY:Free Men's Health Check in Sawtell
DESCRIPTION:Outside RSL
URL:https://mherv.com.au/where-is-mherv-1/free-mens-health-check-in-sawtell-5/
ATTACH;FMTTYPE=image/png:https://mherv.com.au/wp-content/uploads/2022/02/mherv-pin-trimmed@3x.png
END:VEVENT
BEGIN:VEVENT
DTSTART;TZID=Australia/Sydney:20251014T093000
DTEND;TZID=Australia/Sydney:20251014T161500
DTSTAMP:20260421T234805
CREATED:20250922T222647Z
LAST-MODIFIED:20250925T231628Z
UID:13358-1760434200-1760458500@mherv.com.au
SUMMARY:Free Men's Health Check in Woolgoolga
DESCRIPTION:17 Beach Street  Cnr Of Bultitude St.
URL:https://mherv.com.au/where-is-mherv-1/free-mens-health-check-in-woolgoolga-5/
ATTACH;FMTTYPE=image/png:https://mherv.com.au/wp-content/uploads/2022/02/mherv-pin-trimmed@3x.png
END:VEVENT
BEGIN:VEVENT
DTSTART;TZID=Australia/Sydney:20251013T093000
DTEND;TZID=Australia/Sydney:20251013T161500
DTSTAMP:20260421T234805
CREATED:20250922T222635Z
LAST-MODIFIED:20250925T231829Z
UID:13357-1760347800-1760372100@mherv.com.au
SUMMARY:Free Men's Health Check in Woolgoolga
DESCRIPTION:Woolgooga Diggers Club
URL:https://mherv.com.au/where-is-mherv-1/free-mens-health-check-in-woolgoolga-4/
ATTACH;FMTTYPE=image/png:https://mherv.com.au/wp-content/uploads/2022/02/mherv-pin-trimmed@3x.png
END:VEVENT
BEGIN:VEVENT
DTSTART;TZID=Australia/Sydney:20251011T093000
DTEND;TZID=Australia/Sydney:20251011T161500
DTSTAMP:20260421T234805
CREATED:20250922T222630Z
LAST-MODIFIED:20250922T222630Z
UID:13356-1760175000-1760199300@mherv.com.au
SUMMARY:Free Men's Health Check in Grafton
DESCRIPTION:Bunnings Warehouse
URL:https://mherv.com.au/where-is-mherv-1/free-mens-health-check-in-grafton-6/
ATTACH;FMTTYPE=image/png:https://mherv.com.au/wp-content/uploads/2022/02/mherv-pin-trimmed@3x.png
END:VEVENT
BEGIN:VEVENT
DTSTART;TZID=Australia/Sydney:20251010T093000
DTEND;TZID=Australia/Sydney:20251010T161500
DTSTAMP:20260421T234805
CREATED:20250922T222625Z
LAST-MODIFIED:20250922T222625Z
UID:13355-1760088600-1760112900@mherv.com.au
SUMMARY:Free Men's Health Check in Grafton
DESCRIPTION:Bunnings Warehouse
URL:https://mherv.com.au/where-is-mherv-1/free-mens-health-check-in-grafton-5/
ATTACH;FMTTYPE=image/png:https://mherv.com.au/wp-content/uploads/2022/02/mherv-pin-trimmed@3x.png
END:VEVENT
BEGIN:VEVENT
DTSTART;TZID=Australia/Sydney:20251009T093000
DTEND;TZID=Australia/Sydney:20251009T161500
DTSTAMP:20260421T234805
CREATED:20250922T222621Z
LAST-MODIFIED:20250922T222621Z
UID:13354-1760002200-1760026500@mherv.com.au
SUMMARY:Free Men's Health Check in Maclean
DESCRIPTION:Out the front of Riverview Funerals
URL:https://mherv.com.au/where-is-mherv-1/free-mens-health-check-in-maclean-6/
ATTACH;FMTTYPE=image/png:https://mherv.com.au/wp-content/uploads/2022/02/mherv-pin-trimmed@3x.png
END:VEVENT
BEGIN:VEVENT
DTSTART;TZID=Australia/Sydney:20251008T093000
DTEND;TZID=Australia/Sydney:20251008T161500
DTSTAMP:20260421T234805
CREATED:20250922T222607Z
LAST-MODIFIED:20250922T222607Z
UID:13353-1759915800-1759940100@mherv.com.au
SUMMARY:Free Men's Health Check in Maclean
DESCRIPTION:Out the front of Riverview Funerals
URL:https://mherv.com.au/where-is-mherv-1/free-mens-health-check-in-maclean-5/
ATTACH;FMTTYPE=image/png:https://mherv.com.au/wp-content/uploads/2022/02/mherv-pin-trimmed@3x.png
END:VEVENT
BEGIN:VEVENT
DTSTART;TZID=Australia/Sydney:20250930T093000
DTEND;TZID=Australia/Sydney:20250930T160000
DTSTAMP:20260421T234805
CREATED:20250827T015448Z
LAST-MODIFIED:20250827T015448Z
UID:13327-1759224600-1759248000@mherv.com.au
SUMMARY:Free Men's Health Check in Yamba
DESCRIPTION:Yamba Bowling Club
URL:https://mherv.com.au/where-is-mherv-1/free-mens-health-check-in-yamba-6/
ATTACH;FMTTYPE=image/png:https://mherv.com.au/wp-content/uploads/2022/02/mherv-pin-trimmed@3x.png
END:VEVENT
BEGIN:VEVENT
DTSTART;TZID=Australia/Sydney:20250929T093000
DTEND;TZID=Australia/Sydney:20250929T160000
DTSTAMP:20260421T234805
CREATED:20250827T015440Z
LAST-MODIFIED:20250827T015440Z
UID:13326-1759138200-1759161600@mherv.com.au
SUMMARY:Free Men's Health Check in Yamba
DESCRIPTION:Yamba Bowling Club
URL:https://mherv.com.au/where-is-mherv-1/free-mens-health-check-in-yamba-5/
ATTACH;FMTTYPE=image/png:https://mherv.com.au/wp-content/uploads/2022/02/mherv-pin-trimmed@3x.png
END:VEVENT
BEGIN:VEVENT
DTSTART;TZID=Australia/Sydney:20250928T093000
DTEND;TZID=Australia/Sydney:20250928T160000
DTSTAMP:20260421T234805
CREATED:20250827T015431Z
LAST-MODIFIED:20250827T015431Z
UID:13325-1759051800-1759075200@mherv.com.au
SUMMARY:Free Men's Health Check in Iluka/Woombah
DESCRIPTION:Opposite IGA and Ampol Service Station
URL:https://mherv.com.au/where-is-mherv-1/free-mens-health-check-in-iluka-woombah-2/
ATTACH;FMTTYPE=image/png:https://mherv.com.au/wp-content/uploads/2022/02/mherv-pin-trimmed@3x.png
END:VEVENT
BEGIN:VEVENT
DTSTART;TZID=Australia/Sydney:20250927T093000
DTEND;TZID=Australia/Sydney:20250927T160000
DTSTAMP:20260421T234805
CREATED:20250827T015417Z
LAST-MODIFIED:20250827T015417Z
UID:13324-1758965400-1758988800@mherv.com.au
SUMMARY:Free Men's Health Check in Iluka/Woombah
DESCRIPTION:Opposite IGA and Ampol Service Station
URL:https://mherv.com.au/where-is-mherv-1/free-mens-health-check-in-iluka-woombah/
ATTACH;FMTTYPE=image/png:https://mherv.com.au/wp-content/uploads/2022/02/mherv-pin-trimmed@3x.png
END:VEVENT
BEGIN:VEVENT
DTSTART;TZID=Australia/Sydney:20250925T093000
DTEND;TZID=Australia/Sydney:20250925T160000
DTSTAMP:20260421T234805
CREATED:20250827T015341Z
LAST-MODIFIED:20250827T015341Z
UID:13323-1758792600-1758816000@mherv.com.au
SUMMARY:Free Men's Health Check in Casino
DESCRIPTION:RSM Shopping Village
URL:https://mherv.com.au/where-is-mherv-1/free-mens-health-check-in-casino-7/
ATTACH;FMTTYPE=image/png:https://mherv.com.au/wp-content/uploads/2022/02/mherv-pin-trimmed@3x.png
END:VEVENT
BEGIN:VEVENT
DTSTART;TZID=Australia/Sydney:20250924T093000
DTEND;TZID=Australia/Sydney:20250924T160000
DTSTAMP:20260421T234805
CREATED:20250827T015325Z
LAST-MODIFIED:20250827T015325Z
UID:13322-1758706200-1758729600@mherv.com.au
SUMMARY:Free Men's Health Check in Casino
DESCRIPTION:RSM Shopping Village
URL:https://mherv.com.au/where-is-mherv-1/free-mens-health-check-in-casino-6/
ATTACH;FMTTYPE=image/png:https://mherv.com.au/wp-content/uploads/2022/02/mherv-pin-trimmed@3x.png
END:VEVENT
BEGIN:VEVENT
DTSTART;TZID=Australia/Sydney:20250923T093000
DTEND;TZID=Australia/Sydney:20250923T160000
DTSTAMP:20260421T234805
CREATED:20250827T015316Z
LAST-MODIFIED:20250827T015316Z
UID:13321-1758619800-1758643200@mherv.com.au
SUMMARY:Free Men's Health Check in Lismore
DESCRIPTION:Lismore
URL:https://mherv.com.au/where-is-mherv-1/free-mens-health-check-in-lismore-6/
ATTACH;FMTTYPE=image/png:https://mherv.com.au/wp-content/uploads/2022/02/mherv-pin-trimmed@3x.png
END:VEVENT
BEGIN:VEVENT
DTSTART;TZID=Australia/Sydney:20250922T093000
DTEND;TZID=Australia/Sydney:20250922T160000
DTSTAMP:20260421T234805
CREATED:20250827T015308Z
LAST-MODIFIED:20250827T015308Z
UID:13320-1758533400-1758556800@mherv.com.au
SUMMARY:Free Men's Health Check in Lismore
DESCRIPTION:Lismore
URL:https://mherv.com.au/where-is-mherv-1/free-mens-health-check-in-lismore-5/
ATTACH;FMTTYPE=image/png:https://mherv.com.au/wp-content/uploads/2022/02/mherv-pin-trimmed@3x.png
END:VEVENT
BEGIN:VEVENT
DTSTART;TZID=Australia/Sydney:20250921T093000
DTEND;TZID=Australia/Sydney:20250921T160000
DTSTAMP:20260421T234805
CREATED:20250827T015254Z
LAST-MODIFIED:20250827T015254Z
UID:13319-1758447000-1758470400@mherv.com.au
SUMMARY:Free Men's Health Check in Alstonville
DESCRIPTION:Carpark opposite Dominoes
URL:https://mherv.com.au/where-is-mherv-1/free-mens-health-check-in-alstonville-7/
ATTACH;FMTTYPE=image/png:https://mherv.com.au/wp-content/uploads/2022/02/mherv-pin-trimmed@3x.png
END:VEVENT
BEGIN:VEVENT
DTSTART;TZID=Australia/Sydney:20250920T093000
DTEND;TZID=Australia/Sydney:20250920T160000
DTSTAMP:20260421T234805
CREATED:20250827T015222Z
LAST-MODIFIED:20250827T015222Z
UID:13318-1758360600-1758384000@mherv.com.au
SUMMARY:Free Men's Health Check in Alstonville
DESCRIPTION:Carpark opposite Dominoes
URL:https://mherv.com.au/where-is-mherv-1/free-mens-health-check-in-alstonville-6/
ATTACH;FMTTYPE=image/png:https://mherv.com.au/wp-content/uploads/2022/02/mherv-pin-trimmed@3x.png
END:VEVENT
BEGIN:VEVENT
DTSTART;TZID=Australia/Sydney:20250918T093000
DTEND;TZID=Australia/Sydney:20250918T160000
DTSTAMP:20260421T234805
CREATED:20250827T015207Z
LAST-MODIFIED:20250827T015207Z
UID:13317-1758187800-1758211200@mherv.com.au
SUMMARY:Free Men's Health Check in Ballina
DESCRIPTION:Moon St
URL:https://mherv.com.au/where-is-mherv-1/free-mens-health-check-in-ballina-9/
ATTACH;FMTTYPE=image/png:https://mherv.com.au/wp-content/uploads/2022/02/mherv-pin-trimmed@3x.png
END:VEVENT
END:VCALENDAR