BEGIN:VCALENDAR
VERSION:2.0
PRODID:-//Mens Health Educational Rural Van - ECPv6.14.2//NONSGML v1.0//EN
CALSCALE:GREGORIAN
METHOD:PUBLISH
X-WR-CALNAME:Mens Health Educational Rural Van
X-ORIGINAL-URL:https://mherv.com.au
X-WR-CALDESC:Events for Mens Health Educational Rural Van
REFRESH-INTERVAL;VALUE=DURATION:PT1H
X-Robots-Tag:noindex
X-PUBLISHED-TTL:PT1H
BEGIN:VTIMEZONE
TZID:Australia/Sydney
BEGIN:STANDARD
TZOFFSETFROM:+1100
TZOFFSETTO:+1000
TZNAME:AEST
DTSTART:20250405T160000
END:STANDARD
BEGIN:DAYLIGHT
TZOFFSETFROM:+1000
TZOFFSETTO:+1100
TZNAME:AEDT
DTSTART:20251004T160000
END:DAYLIGHT
END:VTIMEZONE
BEGIN:VEVENT
DTSTART;TZID=Australia/Sydney:20250929T093000
DTEND;TZID=Australia/Sydney:20250929T160000
DTSTAMP:20260422T013236
CREATED:20250827T015440Z
LAST-MODIFIED:20250827T015440Z
UID:13326-1759138200-1759161600@mherv.com.au
SUMMARY:Free Men's Health Check in Yamba
DESCRIPTION:Yamba Bowling Club
URL:https://mherv.com.au/where-is-mherv-1/free-mens-health-check-in-yamba-5/
ATTACH;FMTTYPE=image/png:https://mherv.com.au/wp-content/uploads/2022/02/mherv-pin-trimmed@3x.png
END:VEVENT
BEGIN:VEVENT
DTSTART;TZID=Australia/Sydney:20250928T093000
DTEND;TZID=Australia/Sydney:20250928T160000
DTSTAMP:20260422T013236
CREATED:20250827T015431Z
LAST-MODIFIED:20250827T015431Z
UID:13325-1759051800-1759075200@mherv.com.au
SUMMARY:Free Men's Health Check in Iluka/Woombah
DESCRIPTION:Opposite IGA and Ampol Service Station
URL:https://mherv.com.au/where-is-mherv-1/free-mens-health-check-in-iluka-woombah-2/
ATTACH;FMTTYPE=image/png:https://mherv.com.au/wp-content/uploads/2022/02/mherv-pin-trimmed@3x.png
END:VEVENT
BEGIN:VEVENT
DTSTART;TZID=Australia/Sydney:20250927T093000
DTEND;TZID=Australia/Sydney:20250927T160000
DTSTAMP:20260422T013236
CREATED:20250827T015417Z
LAST-MODIFIED:20250827T015417Z
UID:13324-1758965400-1758988800@mherv.com.au
SUMMARY:Free Men's Health Check in Iluka/Woombah
DESCRIPTION:Opposite IGA and Ampol Service Station
URL:https://mherv.com.au/where-is-mherv-1/free-mens-health-check-in-iluka-woombah/
ATTACH;FMTTYPE=image/png:https://mherv.com.au/wp-content/uploads/2022/02/mherv-pin-trimmed@3x.png
END:VEVENT
BEGIN:VEVENT
DTSTART;TZID=Australia/Sydney:20250925T093000
DTEND;TZID=Australia/Sydney:20250925T160000
DTSTAMP:20260422T013236
CREATED:20250827T015341Z
LAST-MODIFIED:20250827T015341Z
UID:13323-1758792600-1758816000@mherv.com.au
SUMMARY:Free Men's Health Check in Casino
DESCRIPTION:RSM Shopping Village
URL:https://mherv.com.au/where-is-mherv-1/free-mens-health-check-in-casino-7/
ATTACH;FMTTYPE=image/png:https://mherv.com.au/wp-content/uploads/2022/02/mherv-pin-trimmed@3x.png
END:VEVENT
BEGIN:VEVENT
DTSTART;TZID=Australia/Sydney:20250924T093000
DTEND;TZID=Australia/Sydney:20250924T160000
DTSTAMP:20260422T013236
CREATED:20250827T015325Z
LAST-MODIFIED:20250827T015325Z
UID:13322-1758706200-1758729600@mherv.com.au
SUMMARY:Free Men's Health Check in Casino
DESCRIPTION:RSM Shopping Village
URL:https://mherv.com.au/where-is-mherv-1/free-mens-health-check-in-casino-6/
ATTACH;FMTTYPE=image/png:https://mherv.com.au/wp-content/uploads/2022/02/mherv-pin-trimmed@3x.png
END:VEVENT
BEGIN:VEVENT
DTSTART;TZID=Australia/Sydney:20250923T093000
DTEND;TZID=Australia/Sydney:20250923T160000
DTSTAMP:20260422T013236
CREATED:20250827T015316Z
LAST-MODIFIED:20250827T015316Z
UID:13321-1758619800-1758643200@mherv.com.au
SUMMARY:Free Men's Health Check in Lismore
DESCRIPTION:Lismore
URL:https://mherv.com.au/where-is-mherv-1/free-mens-health-check-in-lismore-6/
ATTACH;FMTTYPE=image/png:https://mherv.com.au/wp-content/uploads/2022/02/mherv-pin-trimmed@3x.png
END:VEVENT
BEGIN:VEVENT
DTSTART;TZID=Australia/Sydney:20250922T093000
DTEND;TZID=Australia/Sydney:20250922T160000
DTSTAMP:20260422T013236
CREATED:20250827T015308Z
LAST-MODIFIED:20250827T015308Z
UID:13320-1758533400-1758556800@mherv.com.au
SUMMARY:Free Men's Health Check in Lismore
DESCRIPTION:Lismore
URL:https://mherv.com.au/where-is-mherv-1/free-mens-health-check-in-lismore-5/
ATTACH;FMTTYPE=image/png:https://mherv.com.au/wp-content/uploads/2022/02/mherv-pin-trimmed@3x.png
END:VEVENT
BEGIN:VEVENT
DTSTART;TZID=Australia/Sydney:20250921T093000
DTEND;TZID=Australia/Sydney:20250921T160000
DTSTAMP:20260422T013236
CREATED:20250827T015254Z
LAST-MODIFIED:20250827T015254Z
UID:13319-1758447000-1758470400@mherv.com.au
SUMMARY:Free Men's Health Check in Alstonville
DESCRIPTION:Carpark opposite Dominoes
URL:https://mherv.com.au/where-is-mherv-1/free-mens-health-check-in-alstonville-7/
ATTACH;FMTTYPE=image/png:https://mherv.com.au/wp-content/uploads/2022/02/mherv-pin-trimmed@3x.png
END:VEVENT
BEGIN:VEVENT
DTSTART;TZID=Australia/Sydney:20250920T093000
DTEND;TZID=Australia/Sydney:20250920T160000
DTSTAMP:20260422T013236
CREATED:20250827T015222Z
LAST-MODIFIED:20250827T015222Z
UID:13318-1758360600-1758384000@mherv.com.au
SUMMARY:Free Men's Health Check in Alstonville
DESCRIPTION:Carpark opposite Dominoes
URL:https://mherv.com.au/where-is-mherv-1/free-mens-health-check-in-alstonville-6/
ATTACH;FMTTYPE=image/png:https://mherv.com.au/wp-content/uploads/2022/02/mherv-pin-trimmed@3x.png
END:VEVENT
BEGIN:VEVENT
DTSTART;TZID=Australia/Sydney:20250918T093000
DTEND;TZID=Australia/Sydney:20250918T160000
DTSTAMP:20260422T013236
CREATED:20250827T015207Z
LAST-MODIFIED:20250827T015207Z
UID:13317-1758187800-1758211200@mherv.com.au
SUMMARY:Free Men's Health Check in Ballina
DESCRIPTION:Moon St
URL:https://mherv.com.au/where-is-mherv-1/free-mens-health-check-in-ballina-9/
ATTACH;FMTTYPE=image/png:https://mherv.com.au/wp-content/uploads/2022/02/mherv-pin-trimmed@3x.png
END:VEVENT
BEGIN:VEVENT
DTSTART;TZID=Australia/Sydney:20250917T093000
DTEND;TZID=Australia/Sydney:20250917T160000
DTSTAMP:20260422T013236
CREATED:20250827T015200Z
LAST-MODIFIED:20250827T015200Z
UID:13316-1758101400-1758124800@mherv.com.au
SUMMARY:Free Men's Health Check in Ballina
DESCRIPTION:Moon St
URL:https://mherv.com.au/where-is-mherv-1/free-mens-health-check-in-ballina-8/
ATTACH;FMTTYPE=image/png:https://mherv.com.au/wp-content/uploads/2022/02/mherv-pin-trimmed@3x.png
END:VEVENT
BEGIN:VEVENT
DTSTART;TZID=Australia/Sydney:20250916T093000
DTEND;TZID=Australia/Sydney:20250916T160000
DTSTAMP:20260422T013236
CREATED:20250827T015152Z
LAST-MODIFIED:20250827T015152Z
UID:13315-1758015000-1758038400@mherv.com.au
SUMMARY:Free Men's Health Check in Byron Bay
DESCRIPTION:Byron Bay Services Club
URL:https://mherv.com.au/where-is-mherv-1/free-mens-health-check-in-byron-bay-8/
ATTACH;FMTTYPE=image/png:https://mherv.com.au/wp-content/uploads/2022/02/mherv-pin-trimmed@3x.png
END:VEVENT
BEGIN:VEVENT
DTSTART;TZID=Australia/Sydney:20250915T093000
DTEND;TZID=Australia/Sydney:20250915T160000
DTSTAMP:20260422T013236
CREATED:20250827T015138Z
LAST-MODIFIED:20250827T015138Z
UID:13314-1757928600-1757952000@mherv.com.au
SUMMARY:Free Men's Health Check in Byron Bay
DESCRIPTION:Byron Bay Services Club
URL:https://mherv.com.au/where-is-mherv-1/free-mens-health-check-in-byron-bay-7/
ATTACH;FMTTYPE=image/png:https://mherv.com.au/wp-content/uploads/2022/02/mherv-pin-trimmed@3x.png
END:VEVENT
BEGIN:VEVENT
DTSTART;TZID=Australia/Sydney:20250914T093000
DTEND;TZID=Australia/Sydney:20250914T160000
DTSTAMP:20260422T013236
CREATED:20250827T015108Z
LAST-MODIFIED:20250827T015108Z
UID:13313-1757842200-1757865600@mherv.com.au
SUMMARY:Free Men's Health Check in Tweed Heads
DESCRIPTION:Bunnings Car Park
URL:https://mherv.com.au/where-is-mherv-1/free-mens-health-check-in-tweed-heads-6/
ATTACH;FMTTYPE=image/png:https://mherv.com.au/wp-content/uploads/2022/02/mherv-pin-trimmed@3x.png
END:VEVENT
BEGIN:VEVENT
DTSTART;TZID=Australia/Sydney:20250913T093000
DTEND;TZID=Australia/Sydney:20250913T160000
DTSTAMP:20260422T013236
CREATED:20250827T015053Z
LAST-MODIFIED:20250827T015053Z
UID:13312-1757755800-1757779200@mherv.com.au
SUMMARY:Free Men's Health Check in Tweed Heads
DESCRIPTION:Bunnings Car Park
URL:https://mherv.com.au/where-is-mherv-1/free-mens-health-check-in-tweed-heads-5/
ATTACH;FMTTYPE=image/png:https://mherv.com.au/wp-content/uploads/2022/02/mherv-pin-trimmed@3x.png
END:VEVENT
BEGIN:VEVENT
DTSTART;TZID=Australia/Sydney:20250911T093000
DTEND;TZID=Australia/Sydney:20250911T160000
DTSTAMP:20260422T013236
CREATED:20250827T015038Z
LAST-MODIFIED:20250827T015038Z
UID:13311-1757583000-1757606400@mherv.com.au
SUMMARY:Free Men's Health Check in Warwick
DESCRIPTION:Next to Bunnings
URL:https://mherv.com.au/where-is-mherv-1/free-mens-health-check-in-warwick-6/
ATTACH;FMTTYPE=image/png:https://mherv.com.au/wp-content/uploads/2022/02/mherv-pin-trimmed@3x.png
END:VEVENT
BEGIN:VEVENT
DTSTART;TZID=Australia/Sydney:20250910T093000
DTEND;TZID=Australia/Sydney:20250910T160000
DTSTAMP:20260422T013236
CREATED:20250827T015021Z
LAST-MODIFIED:20250827T015021Z
UID:13310-1757496600-1757520000@mherv.com.au
SUMMARY:Free Men's Health Check in Warwick
DESCRIPTION:Next to Bunnings
URL:https://mherv.com.au/where-is-mherv-1/free-mens-health-check-in-warwick-5/
ATTACH;FMTTYPE=image/png:https://mherv.com.au/wp-content/uploads/2022/02/mherv-pin-trimmed@3x.png
END:VEVENT
BEGIN:VEVENT
DTSTART;TZID=Australia/Sydney:20250909T093000
DTEND;TZID=Australia/Sydney:20250909T160000
DTSTAMP:20260422T013236
CREATED:20250827T014956Z
LAST-MODIFIED:20250827T014956Z
UID:13309-1757410200-1757433600@mherv.com.au
SUMMARY:Free Men's Health Check in Stanthorpe
DESCRIPTION:Opposite the Post Office
URL:https://mherv.com.au/where-is-mherv-1/free-mens-health-check-in-stanthorpe-6/
ATTACH;FMTTYPE=image/png:https://mherv.com.au/wp-content/uploads/2022/02/mherv-pin-trimmed@3x.png
END:VEVENT
BEGIN:VEVENT
DTSTART;TZID=Australia/Sydney:20250908T093000
DTEND;TZID=Australia/Sydney:20250908T160000
DTSTAMP:20260422T013236
CREATED:20250827T014944Z
LAST-MODIFIED:20250827T014944Z
UID:13308-1757323800-1757347200@mherv.com.au
SUMMARY:Free Men's Health Check in Stanthorpe
DESCRIPTION:Opposite the Post Office
URL:https://mherv.com.au/where-is-mherv-1/free-mens-health-check-in-stanthorpe-5/
ATTACH;FMTTYPE=image/png:https://mherv.com.au/wp-content/uploads/2022/02/mherv-pin-trimmed@3x.png
END:VEVENT
BEGIN:VEVENT
DTSTART;TZID=Australia/Sydney:20250905T093000
DTEND;TZID=Australia/Sydney:20250905T160000
DTSTAMP:20260422T013236
CREATED:20250827T014939Z
LAST-MODIFIED:20250827T014939Z
UID:13307-1757064600-1757088000@mherv.com.au
SUMMARY:Free Men's Health Check in Deepwater
DESCRIPTION:School of Arts Hall
URL:https://mherv.com.au/where-is-mherv-1/free-mens-health-check-in-deepwater-4/
ATTACH;FMTTYPE=image/png:https://mherv.com.au/wp-content/uploads/2022/02/mherv-pin-trimmed@3x.png
END:VEVENT
BEGIN:VEVENT
DTSTART;TZID=Australia/Sydney:20250904T093000
DTEND;TZID=Australia/Sydney:20250904T160000
DTSTAMP:20260422T013236
CREATED:20250827T014935Z
LAST-MODIFIED:20250827T014935Z
UID:13306-1756978200-1757001600@mherv.com.au
SUMMARY:Free Men's Health Check in Deepwater
DESCRIPTION:School of Arts Hall
URL:https://mherv.com.au/where-is-mherv-1/free-mens-health-check-in-deepwater-3/
ATTACH;FMTTYPE=image/png:https://mherv.com.au/wp-content/uploads/2022/02/mherv-pin-trimmed@3x.png
END:VEVENT
BEGIN:VEVENT
DTSTART;TZID=Australia/Sydney:20250902T093000
DTEND;TZID=Australia/Sydney:20250902T160000
DTSTAMP:20260422T013236
CREATED:20250827T014929Z
LAST-MODIFIED:20250827T014929Z
UID:13305-1756805400-1756828800@mherv.com.au
SUMMARY:Free Men's Health Check in Inverell
DESCRIPTION:Opposite Town Hall
URL:https://mherv.com.au/where-is-mherv-1/free-mens-health-check-in-inverell-5/
ATTACH;FMTTYPE=image/png:https://mherv.com.au/wp-content/uploads/2022/02/mherv-pin-trimmed@3x.png
END:VEVENT
BEGIN:VEVENT
DTSTART;TZID=Australia/Sydney:20250901T093000
DTEND;TZID=Australia/Sydney:20250901T160000
DTSTAMP:20260422T013236
CREATED:20250827T014917Z
LAST-MODIFIED:20250827T014917Z
UID:13304-1756719000-1756742400@mherv.com.au
SUMMARY:Free Men's Health Check in Inverell
DESCRIPTION:Opposite Town Hall
URL:https://mherv.com.au/where-is-mherv-1/free-mens-health-check-in-inverell-4/
ATTACH;FMTTYPE=image/png:https://mherv.com.au/wp-content/uploads/2022/02/mherv-pin-trimmed@3x.png
END:VEVENT
BEGIN:VEVENT
DTSTART;TZID=Australia/Sydney:20250614T093000
DTEND;TZID=Australia/Sydney:20250614T161500
DTSTAMP:20260422T013236
CREATED:20250422T002558Z
LAST-MODIFIED:20250422T002558Z
UID:13225-1749893400-1749917700@mherv.com.au
SUMMARY:Free Men's Health Check in Forbes
DESCRIPTION:Opposite the Town Hall\, Harold Street\, Forbes
URL:https://mherv.com.au/where-is-mherv-1/free-mens-health-check-in-forbes-4/
ATTACH;FMTTYPE=image/png:https://mherv.com.au/wp-content/uploads/2022/02/mherv-pin-trimmed@3x.png
END:VEVENT
BEGIN:VEVENT
DTSTART;TZID=Australia/Sydney:20250613T093000
DTEND;TZID=Australia/Sydney:20250613T161500
DTSTAMP:20260422T013236
CREATED:20250422T002543Z
LAST-MODIFIED:20250422T002543Z
UID:13224-1749807000-1749831300@mherv.com.au
SUMMARY:Free Men's Health Check in Forbes
DESCRIPTION:Opposite the Town Hall\, Harold Street\, Forbes
URL:https://mherv.com.au/where-is-mherv-1/free-mens-health-check-in-forbes-3/
ATTACH;FMTTYPE=image/png:https://mherv.com.au/wp-content/uploads/2022/02/mherv-pin-trimmed@3x.png
END:VEVENT
BEGIN:VEVENT
DTSTART;TZID=Australia/Sydney:20250611T094500
DTEND;TZID=Australia/Sydney:20250611T161500
DTSTAMP:20260422T013236
CREATED:20250422T002523Z
LAST-MODIFIED:20250422T002523Z
UID:13223-1749635100-1749658500@mherv.com.au
SUMMARY:Free Men's Health Check in West Wyalong
DESCRIPTION:Main Street\, West Wyalong
URL:https://mherv.com.au/where-is-mherv-1/free-mens-health-check-in-west-wyalong-3/
ATTACH;FMTTYPE=image/png:https://mherv.com.au/wp-content/uploads/2022/02/mherv-pin-trimmed@3x.png
END:VEVENT
BEGIN:VEVENT
DTSTART;TZID=Australia/Sydney:20250610T094500
DTEND;TZID=Australia/Sydney:20250610T161500
DTSTAMP:20260422T013236
CREATED:20250422T002514Z
LAST-MODIFIED:20250422T002514Z
UID:13222-1749548700-1749572100@mherv.com.au
SUMMARY:Free Men's Health Check in West Wyalong
DESCRIPTION:Main Street\, West Wyalong
URL:https://mherv.com.au/where-is-mherv-1/free-mens-health-check-in-west-wyalong-2/
ATTACH;FMTTYPE=image/png:https://mherv.com.au/wp-content/uploads/2022/02/mherv-pin-trimmed@3x.png
END:VEVENT
BEGIN:VEVENT
DTSTART;TZID=Australia/Sydney:20250607T093000
DTEND;TZID=Australia/Sydney:20250607T161500
DTSTAMP:20260422T013236
CREATED:20250422T002510Z
LAST-MODIFIED:20250422T002510Z
UID:13221-1749288600-1749312900@mherv.com.au
SUMMARY:Free Men's Health Check in Coolamon
DESCRIPTION:Coolamon Shire\, Ford Street
URL:https://mherv.com.au/where-is-mherv-1/free-mens-health-check-in-coolamon-3/
ATTACH;FMTTYPE=image/png:https://mherv.com.au/wp-content/uploads/2022/02/mherv-pin-trimmed@3x.png
END:VEVENT
BEGIN:VEVENT
DTSTART;TZID=Australia/Sydney:20250606T093000
DTEND;TZID=Australia/Sydney:20250606T161500
DTSTAMP:20260422T013236
CREATED:20250422T002506Z
LAST-MODIFIED:20250422T002506Z
UID:13220-1749202200-1749226500@mherv.com.au
SUMMARY:Free Men's Health Check in Coolamon
DESCRIPTION:Coolamon Shire\, Ford Street
URL:https://mherv.com.au/where-is-mherv-1/free-mens-health-check-in-coolamon-2/
ATTACH;FMTTYPE=image/png:https://mherv.com.au/wp-content/uploads/2022/02/mherv-pin-trimmed@3x.png
END:VEVENT
BEGIN:VEVENT
DTSTART;TZID=Australia/Sydney:20250603T093000
DTEND;TZID=Australia/Sydney:20250603T161500
DTSTAMP:20260422T013236
CREATED:20250422T002459Z
LAST-MODIFIED:20250422T002459Z
UID:13219-1748943000-1748967300@mherv.com.au
SUMMARY:Free Men's Health Check in Holbrook
DESCRIPTION:Holbrook Store Carpark\, Albury Street\, Holbrook
URL:https://mherv.com.au/where-is-mherv-1/free-mens-health-check-in-holbrook-2/
ATTACH;FMTTYPE=image/png:https://mherv.com.au/wp-content/uploads/2022/02/mherv-pin-trimmed@3x.png
END:VEVENT
END:VCALENDAR