BEGIN:VCALENDAR
VERSION:2.0
PRODID:-//Mens Health Educational Rural Van - ECPv6.14.2//NONSGML v1.0//EN
CALSCALE:GREGORIAN
METHOD:PUBLISH
X-ORIGINAL-URL:https://mherv.com.au
X-WR-CALDESC:Events for Mens Health Educational Rural Van
REFRESH-INTERVAL;VALUE=DURATION:PT1H
X-Robots-Tag:noindex
X-PUBLISHED-TTL:PT1H
BEGIN:VTIMEZONE
TZID:Australia/Sydney
BEGIN:STANDARD
TZOFFSETFROM:+1100
TZOFFSETTO:+1000
TZNAME:AEST
DTSTART:20250405T160000
END:STANDARD
BEGIN:DAYLIGHT
TZOFFSETFROM:+1000
TZOFFSETTO:+1100
TZNAME:AEDT
DTSTART:20251004T160000
END:DAYLIGHT
END:VTIMEZONE
BEGIN:VEVENT
DTSTART;TZID=Australia/Sydney:20250904T093000
DTEND;TZID=Australia/Sydney:20250904T160000
DTSTAMP:20260422T031048
CREATED:20250827T014935Z
LAST-MODIFIED:20250827T014935Z
UID:13306-1756978200-1757001600@mherv.com.au
SUMMARY:Free Men's Health Check in Deepwater
DESCRIPTION:School of Arts Hall
URL:https://mherv.com.au/where-is-mherv-1/free-mens-health-check-in-deepwater-3/
ATTACH;FMTTYPE=image/png:https://mherv.com.au/wp-content/uploads/2022/02/mherv-pin-trimmed@3x.png
END:VEVENT
BEGIN:VEVENT
DTSTART;TZID=Australia/Sydney:20250902T093000
DTEND;TZID=Australia/Sydney:20250902T160000
DTSTAMP:20260422T031048
CREATED:20250827T014929Z
LAST-MODIFIED:20250827T014929Z
UID:13305-1756805400-1756828800@mherv.com.au
SUMMARY:Free Men's Health Check in Inverell
DESCRIPTION:Opposite Town Hall
URL:https://mherv.com.au/where-is-mherv-1/free-mens-health-check-in-inverell-5/
ATTACH;FMTTYPE=image/png:https://mherv.com.au/wp-content/uploads/2022/02/mherv-pin-trimmed@3x.png
END:VEVENT
BEGIN:VEVENT
DTSTART;TZID=Australia/Sydney:20250901T093000
DTEND;TZID=Australia/Sydney:20250901T160000
DTSTAMP:20260422T031048
CREATED:20250827T014917Z
LAST-MODIFIED:20250827T014917Z
UID:13304-1756719000-1756742400@mherv.com.au
SUMMARY:Free Men's Health Check in Inverell
DESCRIPTION:Opposite Town Hall
URL:https://mherv.com.au/where-is-mherv-1/free-mens-health-check-in-inverell-4/
ATTACH;FMTTYPE=image/png:https://mherv.com.au/wp-content/uploads/2022/02/mherv-pin-trimmed@3x.png
END:VEVENT
BEGIN:VEVENT
DTSTART;TZID=Australia/Sydney:20250614T093000
DTEND;TZID=Australia/Sydney:20250614T161500
DTSTAMP:20260422T031048
CREATED:20250422T002558Z
LAST-MODIFIED:20250422T002558Z
UID:13225-1749893400-1749917700@mherv.com.au
SUMMARY:Free Men's Health Check in Forbes
DESCRIPTION:Opposite the Town Hall\, Harold Street\, Forbes
URL:https://mherv.com.au/where-is-mherv-1/free-mens-health-check-in-forbes-4/
ATTACH;FMTTYPE=image/png:https://mherv.com.au/wp-content/uploads/2022/02/mherv-pin-trimmed@3x.png
END:VEVENT
BEGIN:VEVENT
DTSTART;TZID=Australia/Sydney:20250613T093000
DTEND;TZID=Australia/Sydney:20250613T161500
DTSTAMP:20260422T031048
CREATED:20250422T002543Z
LAST-MODIFIED:20250422T002543Z
UID:13224-1749807000-1749831300@mherv.com.au
SUMMARY:Free Men's Health Check in Forbes
DESCRIPTION:Opposite the Town Hall\, Harold Street\, Forbes
URL:https://mherv.com.au/where-is-mherv-1/free-mens-health-check-in-forbes-3/
ATTACH;FMTTYPE=image/png:https://mherv.com.au/wp-content/uploads/2022/02/mherv-pin-trimmed@3x.png
END:VEVENT
BEGIN:VEVENT
DTSTART;TZID=Australia/Sydney:20250611T094500
DTEND;TZID=Australia/Sydney:20250611T161500
DTSTAMP:20260422T031048
CREATED:20250422T002523Z
LAST-MODIFIED:20250422T002523Z
UID:13223-1749635100-1749658500@mherv.com.au
SUMMARY:Free Men's Health Check in West Wyalong
DESCRIPTION:Main Street\, West Wyalong
URL:https://mherv.com.au/where-is-mherv-1/free-mens-health-check-in-west-wyalong-3/
ATTACH;FMTTYPE=image/png:https://mherv.com.au/wp-content/uploads/2022/02/mherv-pin-trimmed@3x.png
END:VEVENT
BEGIN:VEVENT
DTSTART;TZID=Australia/Sydney:20250610T094500
DTEND;TZID=Australia/Sydney:20250610T161500
DTSTAMP:20260422T031048
CREATED:20250422T002514Z
LAST-MODIFIED:20250422T002514Z
UID:13222-1749548700-1749572100@mherv.com.au
SUMMARY:Free Men's Health Check in West Wyalong
DESCRIPTION:Main Street\, West Wyalong
URL:https://mherv.com.au/where-is-mherv-1/free-mens-health-check-in-west-wyalong-2/
ATTACH;FMTTYPE=image/png:https://mherv.com.au/wp-content/uploads/2022/02/mherv-pin-trimmed@3x.png
END:VEVENT
BEGIN:VEVENT
DTSTART;TZID=Australia/Sydney:20250607T093000
DTEND;TZID=Australia/Sydney:20250607T161500
DTSTAMP:20260422T031048
CREATED:20250422T002510Z
LAST-MODIFIED:20250422T002510Z
UID:13221-1749288600-1749312900@mherv.com.au
SUMMARY:Free Men's Health Check in Coolamon
DESCRIPTION:Coolamon Shire\, Ford Street
URL:https://mherv.com.au/where-is-mherv-1/free-mens-health-check-in-coolamon-3/
ATTACH;FMTTYPE=image/png:https://mherv.com.au/wp-content/uploads/2022/02/mherv-pin-trimmed@3x.png
END:VEVENT
BEGIN:VEVENT
DTSTART;TZID=Australia/Sydney:20250606T093000
DTEND;TZID=Australia/Sydney:20250606T161500
DTSTAMP:20260422T031048
CREATED:20250422T002506Z
LAST-MODIFIED:20250422T002506Z
UID:13220-1749202200-1749226500@mherv.com.au
SUMMARY:Free Men's Health Check in Coolamon
DESCRIPTION:Coolamon Shire\, Ford Street
URL:https://mherv.com.au/where-is-mherv-1/free-mens-health-check-in-coolamon-2/
ATTACH;FMTTYPE=image/png:https://mherv.com.au/wp-content/uploads/2022/02/mherv-pin-trimmed@3x.png
END:VEVENT
BEGIN:VEVENT
DTSTART;TZID=Australia/Sydney:20250603T093000
DTEND;TZID=Australia/Sydney:20250603T161500
DTSTAMP:20260422T031048
CREATED:20250422T002459Z
LAST-MODIFIED:20250422T002459Z
UID:13219-1748943000-1748967300@mherv.com.au
SUMMARY:Free Men's Health Check in Holbrook
DESCRIPTION:Holbrook Store Carpark\, Albury Street\, Holbrook
URL:https://mherv.com.au/where-is-mherv-1/free-mens-health-check-in-holbrook-2/
ATTACH;FMTTYPE=image/png:https://mherv.com.au/wp-content/uploads/2022/02/mherv-pin-trimmed@3x.png
END:VEVENT
BEGIN:VEVENT
DTSTART;TZID=Australia/Sydney:20250602T093000
DTEND;TZID=Australia/Sydney:20250602T161500
DTSTAMP:20260422T031048
CREATED:20250422T002449Z
LAST-MODIFIED:20250422T002449Z
UID:13218-1748856600-1748880900@mherv.com.au
SUMMARY:Free Men's Health Check in Holbrook
DESCRIPTION:Holbrook Store Carpark\, Albury Street\, Holbrook
URL:https://mherv.com.au/where-is-mherv-1/free-mens-health-check-in-holbrook/
ATTACH;FMTTYPE=image/png:https://mherv.com.au/wp-content/uploads/2022/02/mherv-pin-trimmed@3x.png
END:VEVENT
BEGIN:VEVENT
DTSTART;TZID=Australia/Sydney:20250528T093000
DTEND;TZID=Australia/Sydney:20250528T161500
DTSTAMP:20260422T031048
CREATED:20250422T001102Z
LAST-MODIFIED:20250422T001102Z
UID:13205-1748424600-1748448900@mherv.com.au
SUMMARY:Free Men's Health Check in Finley
DESCRIPTION:Cnr Murray & Pinnuck Sts
URL:https://mherv.com.au/where-is-mherv-1/free-mens-health-check-in-finley-5/
END:VEVENT
BEGIN:VEVENT
DTSTART;TZID=Australia/Sydney:20250527T093000
DTEND;TZID=Australia/Sydney:20250527T161500
DTSTAMP:20260422T031048
CREATED:20250422T001050Z
LAST-MODIFIED:20250422T001050Z
UID:13204-1748338200-1748362500@mherv.com.au
SUMMARY:Free Men's Health Check in Finley
DESCRIPTION:Finley Centre
URL:https://mherv.com.au/where-is-mherv-1/free-mens-health-check-in-finley-4/
END:VEVENT
BEGIN:VEVENT
DTSTART;TZID=Australia/Sydney:20250524T093000
DTEND;TZID=Australia/Sydney:20250524T123000
DTSTAMP:20260422T031048
CREATED:20250422T001038Z
LAST-MODIFIED:20250422T001038Z
UID:13203-1748079000-1748089800@mherv.com.au
SUMMARY:Free Men's Health Check in Jerilderie
DESCRIPTION:Vacant Block – next to VET CLINIC 73 Jerilderie St\, Jerilderie
URL:https://mherv.com.au/where-is-mherv-1/free-mens-health-check-in-jerilderie-4/
END:VEVENT
BEGIN:VEVENT
DTSTART;TZID=Australia/Sydney:20250523T093000
DTEND;TZID=Australia/Sydney:20250523T161500
DTSTAMP:20260422T031048
CREATED:20250422T001027Z
LAST-MODIFIED:20250422T001027Z
UID:13202-1747992600-1748016900@mherv.com.au
SUMMARY:Free Men's Health Check in Jerilderie
DESCRIPTION:Vacant Block – next to VET CLINIC 73 Jerilderie St\, Jerilderie
URL:https://mherv.com.au/where-is-mherv-1/free-mens-health-check-in-jerilderie-3/
END:VEVENT
BEGIN:VEVENT
DTSTART;TZID=Australia/Sydney:20250522T093000
DTEND;TZID=Australia/Sydney:20250522T161500
DTSTAMP:20260422T031048
CREATED:20250422T001016Z
LAST-MODIFIED:20250422T001016Z
UID:13201-1747906200-1747930500@mherv.com.au
SUMMARY:Free Men's Health Check in Darlington Point
DESCRIPTION:Demamiel Street
URL:https://mherv.com.au/where-is-mherv-1/free-mens-health-check-in-darlington-point-4/
END:VEVENT
BEGIN:VEVENT
DTSTART;TZID=Australia/Sydney:20250521T093000
DTEND;TZID=Australia/Sydney:20250521T161500
DTSTAMP:20260422T031048
CREATED:20250422T000950Z
LAST-MODIFIED:20250422T000950Z
UID:13200-1747819800-1747844100@mherv.com.au
SUMMARY:Free Men's Health Check in Darlington Point
DESCRIPTION:Darlington Point Sports Club
URL:https://mherv.com.au/where-is-mherv-1/free-mens-health-check-in-darlington-point-3/
END:VEVENT
BEGIN:VEVENT
DTSTART;TZID=Australia/Sydney:20250520T093000
DTEND;TZID=Australia/Sydney:20250520T161500
DTSTAMP:20260422T031048
CREATED:20250422T000938Z
LAST-MODIFIED:20250422T000938Z
UID:13199-1747733400-1747757700@mherv.com.au
SUMMARY:Free Men's Health Check in Griffith
DESCRIPTION:Kidman Way\, Griffith
URL:https://mherv.com.au/where-is-mherv-1/free-mens-health-check-in-griffith-6/
END:VEVENT
BEGIN:VEVENT
DTSTART;TZID=Australia/Sydney:20250519T094500
DTEND;TZID=Australia/Sydney:20250519T161500
DTSTAMP:20260422T031048
CREATED:20250422T000926Z
LAST-MODIFIED:20250422T000926Z
UID:13198-1747647900-1747671300@mherv.com.au
SUMMARY:Free Men's Health Check in Griffith
DESCRIPTION:Bunnings Griffith
URL:https://mherv.com.au/where-is-mherv-1/free-mens-health-check-in-griffith-5/
END:VEVENT
BEGIN:VEVENT
DTSTART;TZID=Australia/Sydney:20250517T093000
DTEND;TZID=Australia/Sydney:20250517T161500
DTSTAMP:20260422T031048
CREATED:20250422T000917Z
LAST-MODIFIED:20250422T000917Z
UID:13197-1747474200-1747498500@mherv.com.au
SUMMARY:Free Men's Health Check in Hillston
DESCRIPTION:Carpark Ex-Services Club High St\, Hillston
URL:https://mherv.com.au/where-is-mherv-1/free-mens-health-check-in-hillston-4/
END:VEVENT
BEGIN:VEVENT
DTSTART;TZID=Australia/Sydney:20250516T093000
DTEND;TZID=Australia/Sydney:20250516T161500
DTSTAMP:20260422T031048
CREATED:20250422T000903Z
LAST-MODIFIED:20250422T000903Z
UID:13196-1747387800-1747412100@mherv.com.au
SUMMARY:Free Men's Health Check in Hillston
DESCRIPTION:Carpark Ex-Services Club High St\, Hillston
URL:https://mherv.com.au/where-is-mherv-1/free-mens-health-check-in-hillston-3/
END:VEVENT
BEGIN:VEVENT
DTSTART;TZID=Australia/Sydney:20250515T093000
DTEND;TZID=Australia/Sydney:20250515T161500
DTSTAMP:20260422T031048
CREATED:20250422T000832Z
LAST-MODIFIED:20250422T000832Z
UID:13195-1747301400-1747325700@mherv.com.au
SUMMARY:Free Men's Health Check in Lake Cargellico
DESCRIPTION:Men’s Shed 56 Forster St\, Lake Cargellico
URL:https://mherv.com.au/where-is-mherv-1/free-mens-health-check-in-lake-cargellico-2/
END:VEVENT
BEGIN:VEVENT
DTSTART;TZID=Australia/Sydney:20250514T093000
DTEND;TZID=Australia/Sydney:20250514T161500
DTSTAMP:20260422T031048
CREATED:20250422T000822Z
LAST-MODIFIED:20250422T000822Z
UID:13194-1747215000-1747239300@mherv.com.au
SUMMARY:Free Men's Health Check in Lake Cargellico
DESCRIPTION:Men’s Shed 56 Forster St\, Lake Cargellico
URL:https://mherv.com.au/where-is-mherv-1/free-mens-health-check-in-lake-cargellico/
END:VEVENT
BEGIN:VEVENT
DTSTART;TZID=Australia/Sydney:20250513T093000
DTEND;TZID=Australia/Sydney:20250513T161500
DTSTAMP:20260422T031048
CREATED:20250422T000806Z
LAST-MODIFIED:20250422T000806Z
UID:13193-1747128600-1747152900@mherv.com.au
SUMMARY:Free Men's Health Check in Condobolin
DESCRIPTION:Renown Park Bathurst St\, Condobolin
URL:https://mherv.com.au/where-is-mherv-1/free-mens-health-check-in-condobolin-3/
END:VEVENT
BEGIN:VEVENT
DTSTART;TZID=Australia/Sydney:20250512T094500
DTEND;TZID=Australia/Sydney:20250512T161500
DTSTAMP:20260422T031048
CREATED:20250422T000752Z
LAST-MODIFIED:20250422T000752Z
UID:13192-1747043100-1747066500@mherv.com.au
SUMMARY:Free Men's Health Check in Condobolin
DESCRIPTION:Renown Park Bathurst St\, Condobolin
URL:https://mherv.com.au/where-is-mherv-1/free-mens-health-check-in-condobolin-2/
END:VEVENT
BEGIN:VEVENT
DTSTART;TZID=Australia/Sydney:20250510T093000
DTEND;TZID=Australia/Sydney:20250510T161500
DTSTAMP:20260422T031048
CREATED:20250422T000731Z
LAST-MODIFIED:20250422T000731Z
UID:13191-1746869400-1746893700@mherv.com.au
SUMMARY:Free Men's Health Check in Parkes
DESCRIPTION:Cooke Park\, Short Street
URL:https://mherv.com.au/where-is-mherv-1/free-mens-health-check-in-parkes-4/
END:VEVENT
BEGIN:VEVENT
DTSTART;TZID=Australia/Sydney:20250509T093000
DTEND;TZID=Australia/Sydney:20250509T161500
DTSTAMP:20260422T031048
CREATED:20250422T000717Z
LAST-MODIFIED:20250422T000717Z
UID:13190-1746783000-1746807300@mherv.com.au
SUMMARY:Free Men's Health Check in Parkes
DESCRIPTION:Cooke Park\, Short Street
URL:https://mherv.com.au/where-is-mherv-1/free-mens-health-check-in-parkes-3/
END:VEVENT
BEGIN:VEVENT
DTSTART;TZID=Australia/Sydney:20250507T093000
DTEND;TZID=Australia/Sydney:20250507T161500
DTSTAMP:20260422T031048
CREATED:20250422T000708Z
LAST-MODIFIED:20250422T000708Z
UID:13189-1746610200-1746634500@mherv.com.au
SUMMARY:Free Men's Health Check in Gilgandra
DESCRIPTION:Community Plaza
URL:https://mherv.com.au/where-is-mherv-1/free-mens-health-check-in-gilgandra-2/
END:VEVENT
BEGIN:VEVENT
DTSTART;TZID=Australia/Sydney:20250505T093000
DTEND;TZID=Australia/Sydney:20250505T161500
DTSTAMP:20260422T031048
CREATED:20250422T000702Z
LAST-MODIFIED:20250422T000702Z
UID:13188-1746437400-1746461700@mherv.com.au
SUMMARY:Free Men's Health Check in Coonamble
DESCRIPTION:RMS Apron
URL:https://mherv.com.au/where-is-mherv-1/free-mens-health-check-in-coonamble-2/
END:VEVENT
BEGIN:VEVENT
DTSTART;TZID=Australia/Sydney:20250502T093000
DTEND;TZID=Australia/Sydney:20250502T161500
DTSTAMP:20260422T031048
CREATED:20250422T000656Z
LAST-MODIFIED:20250422T000656Z
UID:13187-1746178200-1746202500@mherv.com.au
SUMMARY:Free Men's Health Check in Coonabarabran
DESCRIPTION:In front of Betta Electrical
URL:https://mherv.com.au/where-is-mherv-1/free-mens-health-check-in-coonabarabran-2/
END:VEVENT
END:VCALENDAR